BEGIN:VCALENDAR
VERSION:2.0
PRODID:-//Sörbykyrkan - ECPv6.15.20//NONSGML v1.0//EN
CALSCALE:GREGORIAN
METHOD:PUBLISH
X-WR-CALNAME:Sörbykyrkan
X-ORIGINAL-URL:https://www.sorbykyrkan.nu
X-WR-CALDESC:Händelser för Sörbykyrkan
REFRESH-INTERVAL;VALUE=DURATION:PT1H
X-Robots-Tag:noindex
X-PUBLISHED-TTL:PT1H
BEGIN:VTIMEZONE
TZID:Europe/Stockholm
BEGIN:DAYLIGHT
TZOFFSETFROM:+0100
TZOFFSETTO:+0200
TZNAME:CEST
DTSTART:20240331T010000
END:DAYLIGHT
BEGIN:STANDARD
TZOFFSETFROM:+0200
TZOFFSETTO:+0100
TZNAME:CET
DTSTART:20241027T010000
END:STANDARD
BEGIN:DAYLIGHT
TZOFFSETFROM:+0100
TZOFFSETTO:+0200
TZNAME:CEST
DTSTART:20250330T010000
END:DAYLIGHT
BEGIN:STANDARD
TZOFFSETFROM:+0200
TZOFFSETTO:+0100
TZNAME:CET
DTSTART:20251026T010000
END:STANDARD
BEGIN:DAYLIGHT
TZOFFSETFROM:+0100
TZOFFSETTO:+0200
TZNAME:CEST
DTSTART:20260329T010000
END:DAYLIGHT
BEGIN:STANDARD
TZOFFSETFROM:+0200
TZOFFSETTO:+0100
TZNAME:CET
DTSTART:20261025T010000
END:STANDARD
END:VTIMEZONE
BEGIN:VEVENT
DTSTART;TZID=Europe/Stockholm:20250915T183000
DTEND;TZID=Europe/Stockholm:20250915T210000
DTSTAMP:20260421T105744
CREATED:20250823T154351Z
LAST-MODIFIED:20250823T154352Z
UID:10002621-1757961000-1757970000@www.sorbykyrkan.nu
SUMMARY:Start för Alpha-kursen
DESCRIPTION:Alpha är en grundkurs i kristen tro där man som deltagare får ställa precis alla frågor man vill kring kristen tro\, Gud och kyrka. \n\n\n\nKänner du någon som är intresserad? Anmälan finns på vår sida om Alpha.
URL:https://www.sorbykyrkan.nu/programpunkt/start-for-alpha-kursen/
LOCATION:Sörbykyrkan\, Senapsvägen 24\, Örebro\, 702 18\, Sverige
ATTACH;FMTTYPE=image/webp:https://www.sorbykyrkan.nu/wp-content/uploads/Fraga-bla-2.avif
END:VEVENT
BEGIN:VEVENT
DTSTART;TZID=Europe/Stockholm:20250917T140000
DTEND;TZID=Europe/Stockholm:20250917T160000
DTSTAMP:20260421T105744
CREATED:20250821T103613Z
LAST-MODIFIED:20251022T131210Z
UID:10002578-1758117600-1758124800@www.sorbykyrkan.nu
SUMMARY:Öppen förskola
DESCRIPTION:Vi leker\, sjunger och fikar. Välkomna föräldrar med barn 0–6 år!
URL:https://www.sorbykyrkan.nu/programpunkt/oppen-forskola-2/2025-09-17/
LOCATION:Sörbykyrkan\, Senapsvägen 24\, Örebro\, 702 18\, Sverige
ATTACH;FMTTYPE=image/jpeg:https://www.sorbykyrkan.nu/wp-content/uploads/pexels-pixabay-159570-scaled.jpg
END:VEVENT
BEGIN:VEVENT
DTSTART;TZID=Europe/Stockholm:20250918T163000
DTEND;TZID=Europe/Stockholm:20250918T183000
DTSTAMP:20260421T105744
CREATED:20250821T103746Z
LAST-MODIFIED:20251022T131301Z
UID:10002633-1758213000-1758220200@www.sorbykyrkan.nu
SUMMARY:Lyktan
DESCRIPTION:För dig i åk 4-7! \n\n\n\nHär blir det olika typer av aktiviteter\, mellis\, lek/promenad med en jättefin hund\, ”hänga”\, pingis\, spel\, göra läxor\, lekar\, prata om Gud Bibeln och livet mm. \n\n\n\nDet kostar inget och ingen anmälan behövs\, det är bara att komma! \n\n\n\nPlats: Sörbykyrkan\, Senapsvägen 24 \n\n\n\nKontakt: Johanna 0720 28 77 16 eller Lisa lisa@sorbykyrkan.nu
URL:https://www.sorbykyrkan.nu/programpunkt/lyktan-2/2025-09-18/
LOCATION:Sörbykyrkan\, Senapsvägen 24\, Örebro\, 702 18\, Sverige
ATTACH;FMTTYPE=image/jpeg:https://www.sorbykyrkan.nu/wp-content/uploads/karsten-winegeart-SHKKHRdROiY-unsplash-scaled.avif
END:VEVENT
BEGIN:VEVENT
DTSTART;TZID=Europe/Stockholm:20250919T183000
DTEND;TZID=Europe/Stockholm:20250919T220000
DTSTAMP:20260421T105744
CREATED:20250909T111413Z
LAST-MODIFIED:20251107T105938Z
UID:10002741-1758306600-1758319200@www.sorbykyrkan.nu
SUMMARY:Ungdomskväll
DESCRIPTION:18.30 Vi börjar med gemenskap och enklare måltid \n\n\n\n20.15 Andakt med undervisning \n\n\n\n21.00 Avslut med möjlighet till öppna samtal \n\n\n\n22.00 Vi säger ”På återseende” \n\n\n\nKontaktperson: Sylvester Liyanage\, ungdomspräst. 073 82 27 871.
URL:https://www.sorbykyrkan.nu/programpunkt/ungdomskvall-2/2025-09-19/
LOCATION:Sörbykyrkan\, Senapsvägen 24\, Örebro\, 702 18\, Sverige
ATTACH;FMTTYPE=image/jpeg:https://www.sorbykyrkan.nu/wp-content/uploads/hannah-busing-FQEYqBdXj2g-unsplash-scaled.avif
END:VEVENT
BEGIN:VEVENT
DTSTART;TZID=Europe/Stockholm:20250920T123000
DTEND;TZID=Europe/Stockholm:20250920T143000
DTSTAMP:20260421T105744
CREATED:20251025T120714Z
LAST-MODIFIED:20251025T120716Z
UID:10002805-1758371400-1758378600@www.sorbykyrkan.nu
SUMMARY:Sörbykyrkans sportgrupp
DESCRIPTION:Ålder: Årskurs 6 och över. OBS! Ingen övre åldersgräns!   \n\n\n\nTid: Varje söndag efter mässan\, ca kl. 12.30-14.30. För att lösa transporten från kyrkan till Idrottshuset samlas vi som vill vara med\, på kyrktorget\, ca kl 12.10 (efter fikat). \n\n\n\nPlats: Idrottshuset. \n\n\n\nVad: ”Play and pray” – Sport och andakt. Olika lagsporter utan prestationskrav – Innebandy\, Futsal\, Basket\, Volleyboll\, Handboll\, Ultimate frisbee. \n\n\n\nSportgruppens upplägg ”Play and pray” innebär*: \n\n\n\n\nKort uppvärmning och presentation av nya deltagare\n\n\n\nBollsport 1 ca 30 minuter\n\n\n\nKort andakt och vila 5-10 minuter\n\n\n\nBollsport 2 ca 30 minuter\n\n\n\nBön och vila 5-10 minuter\n\n\n\nBollsport 3 ca 30 minuter\n\n\n\nAvslutning\, dusch\, omklädning \n\n\n\n\n*Variationer kan förekomma \n\n\n\nMellan mässa och sport finns mackfika i kyrkan. \n\n\n\nOmbyte (inomhusskor och träningskläder) sker i idrottshallen (eller i kyrkan om du joggar till idrottshallen). Ta gärna med innebandyklubba om du har\, annars finns det att låna. \n\n\n\nKontakt: Jonas Damberg\, 070-240 68 65
URL:https://www.sorbykyrkan.nu/programpunkt/sorbykyrkans-sportgrupp-4/2025-09-20/
LOCATION:Sörbykyrkan\, Senapsvägen 24\, Örebro\, 702 18\, Sverige
ATTACH;FMTTYPE=image/webp:https://www.sorbykyrkan.nu/wp-content/uploads/jorgen-hendriksen-kq5jjsAfR30-unsplash-scaled.webp
END:VEVENT
BEGIN:VEVENT
DTSTART;TZID=Europe/Stockholm:20250921T100000
DTEND;TZID=Europe/Stockholm:20250921T110000
DTSTAMP:20260421T105744
CREATED:20250823T162025Z
LAST-MODIFIED:20250823T162026Z
UID:10002626-1758448800-1758452400@www.sorbykyrkan.nu
SUMMARY:Mässa
DESCRIPTION:14:e söndagen e. trefaldighet – Enheten i Kristus | Jes 11:10-13\, Fil 2:1-5\, Luk 22:24-27\, Ps 95:1-7. \n\n\n\nFredrik Weflö\, Sylvester Liyanage\, Josefine Wämmerfors. Sörbykyrkan Gospel & Worship sjunger. \n\n\n\nKollekt till Sörbykyrkans verksamhet.
URL:https://www.sorbykyrkan.nu/programpunkt/massa-25/
LOCATION:Sörbykyrkan\, Senapsvägen 24\, Örebro\, 702 18\, Sverige
ATTACH;FMTTYPE=image/jpeg:https://www.sorbykyrkan.nu/wp-content/uploads/Nattvard-brod-Om-kristen-tro-1011454.jpg
END:VEVENT
BEGIN:VEVENT
DTSTART;TZID=Europe/Stockholm:20250921T100000
DTEND;TZID=Europe/Stockholm:20250921T200000
DTSTAMP:20260421T105744
CREATED:20250823T154941Z
LAST-MODIFIED:20250912T061727Z
UID:10002622-1758448800-1758484800@www.sorbykyrkan.nu
SUMMARY:Kyrkoval
DESCRIPTION:I kyrkovalet väljer du vilka som ska företräda dig i kyrkomötet (nationell nivå)\, stiftsfullmäktige (stiftsnivå) och kyrkofullmäktige (lokal nivå). \n\n\n\nValet har stor inverkan på Svenska kyrkans framtida inriktning\, din röst gör skillnad!
URL:https://www.sorbykyrkan.nu/programpunkt/kyrkoval/
LOCATION:Sörbykyrkan\, Senapsvägen 24\, Örebro\, 702 18\, Sverige
ATTACH;FMTTYPE=image/jpeg:https://www.sorbykyrkan.nu/wp-content/uploads/Bildbanken-1005418-Magnus-Aronson-Ikon1.avif
END:VEVENT
END:VCALENDAR