BEGIN:VCALENDAR
VERSION:2.0
PRODID:-//Sörbykyrkan - ECPv6.15.20//NONSGML v1.0//EN
CALSCALE:GREGORIAN
METHOD:PUBLISH
X-ORIGINAL-URL:https://www.sorbykyrkan.nu
X-WR-CALDESC:Händelser för Sörbykyrkan
REFRESH-INTERVAL;VALUE=DURATION:PT1H
X-Robots-Tag:noindex
X-PUBLISHED-TTL:PT1H
BEGIN:VTIMEZONE
TZID:Europe/Stockholm
BEGIN:DAYLIGHT
TZOFFSETFROM:+0100
TZOFFSETTO:+0200
TZNAME:CEST
DTSTART:20240331T010000
END:DAYLIGHT
BEGIN:STANDARD
TZOFFSETFROM:+0200
TZOFFSETTO:+0100
TZNAME:CET
DTSTART:20241027T010000
END:STANDARD
BEGIN:DAYLIGHT
TZOFFSETFROM:+0100
TZOFFSETTO:+0200
TZNAME:CEST
DTSTART:20250330T010000
END:DAYLIGHT
BEGIN:STANDARD
TZOFFSETFROM:+0200
TZOFFSETTO:+0100
TZNAME:CET
DTSTART:20251026T010000
END:STANDARD
BEGIN:DAYLIGHT
TZOFFSETFROM:+0100
TZOFFSETTO:+0200
TZNAME:CEST
DTSTART:20260329T010000
END:DAYLIGHT
BEGIN:STANDARD
TZOFFSETFROM:+0200
TZOFFSETTO:+0100
TZNAME:CET
DTSTART:20261025T010000
END:STANDARD
END:VTIMEZONE
BEGIN:VEVENT
DTSTART;TZID=Europe/Stockholm:20250814T183000
DTEND;TZID=Europe/Stockholm:20250814T203000
DTSTAMP:20260421T175316
CREATED:20250609T171324Z
LAST-MODIFIED:20250609T171325Z
UID:10002547-1755196200-1755203400@www.sorbykyrkan.nu
SUMMARY:Torsdagskväll i Sörbykyrkan
DESCRIPTION:Tema FRÄLSARKRANSEN som fyller 30 år \n\n\n\n18.30 Fika19.00 Andakt\, samtal och bönKvällen avrundas vid kl. 20:30 \n\n\n\nRunt kyrkan finna alltid möjlighet att vandra med frälsarkransen. Är du i stan på torsdagar välkommen med på samlingarna!
URL:https://www.sorbykyrkan.nu/programpunkt/torsdagskvall-i-sorbykyrkan/2025-08-14/
ATTACH;FMTTYPE=image/jpeg:https://www.sorbykyrkan.nu/wp-content/uploads/1022709.jpg
END:VEVENT
BEGIN:VEVENT
DTSTART;TZID=Europe/Stockholm:20250816T123000
DTEND;TZID=Europe/Stockholm:20250816T143000
DTSTAMP:20260421T175316
CREATED:20251025T120714Z
LAST-MODIFIED:20251025T120716Z
UID:10002800-1755347400-1755354600@www.sorbykyrkan.nu
SUMMARY:Sörbykyrkans sportgrupp
DESCRIPTION:Ålder: Årskurs 6 och över. OBS! Ingen övre åldersgräns!   \n\n\n\nTid: Varje söndag efter mässan\, ca kl. 12.30-14.30. För att lösa transporten från kyrkan till Idrottshuset samlas vi som vill vara med\, på kyrktorget\, ca kl 12.10 (efter fikat). \n\n\n\nPlats: Idrottshuset. \n\n\n\nVad: ”Play and pray” – Sport och andakt. Olika lagsporter utan prestationskrav – Innebandy\, Futsal\, Basket\, Volleyboll\, Handboll\, Ultimate frisbee. \n\n\n\nSportgruppens upplägg ”Play and pray” innebär*: \n\n\n\n\nKort uppvärmning och presentation av nya deltagare\n\n\n\nBollsport 1 ca 30 minuter\n\n\n\nKort andakt och vila 5-10 minuter\n\n\n\nBollsport 2 ca 30 minuter\n\n\n\nBön och vila 5-10 minuter\n\n\n\nBollsport 3 ca 30 minuter\n\n\n\nAvslutning\, dusch\, omklädning \n\n\n\n\n*Variationer kan förekomma \n\n\n\nMellan mässa och sport finns mackfika i kyrkan. \n\n\n\nOmbyte (inomhusskor och träningskläder) sker i idrottshallen (eller i kyrkan om du joggar till idrottshallen). Ta gärna med innebandyklubba om du har\, annars finns det att låna. \n\n\n\nKontakt: Jonas Damberg\, 070-240 68 65
URL:https://www.sorbykyrkan.nu/programpunkt/sorbykyrkans-sportgrupp-4/2025-08-16/
LOCATION:Sörbykyrkan\, Senapsvägen 24\, Örebro\, 702 18\, Sverige
ATTACH;FMTTYPE=image/webp:https://www.sorbykyrkan.nu/wp-content/uploads/jorgen-hendriksen-kq5jjsAfR30-unsplash-scaled.webp
END:VEVENT
BEGIN:VEVENT
DTSTART;TZID=Europe/Stockholm:20250817T110000
DTEND;TZID=Europe/Stockholm:20250817T123000
DTSTAMP:20260421T175316
CREATED:20250609T171014Z
LAST-MODIFIED:20250609T171015Z
UID:10002539-1755428400-1755433800@www.sorbykyrkan.nu
SUMMARY:Ekumenisk gudstjänst i Stadsparken
DESCRIPTION:Örebros församlingar inbjuder till en gemensam sommargudstjänst i Stadsparken. Packa filt och fikakorg och kom!. Medverkar gör flera personer från olika församlingar i Örebro. Alla är välkomna. \n\n\n\nDen gemensamma gudstjänsten i Stadsparken betyder att alla gudstjänster i Svenska kyrkan Örebro pastorats församlingar sammanlyses denna söndagsförmiddag\, flyttar utomhus och hålls i Stadsparken. Vi firar gudstjänsten tillsammans med andra kristna från olika församlingar i Örebro. Gudstjänsten teckenspråkstolkas. \n\n\n\nPacka gärna med filt /stol och en fikakorg! \n\n\n\nPlats: Stadsparken\, Örebro\, stora scenen.Tema: En stor glädje i staden.Predikan: Jonas Lundkvist\, pastor\, Sjukhuskyrkan USÖ.Sång och musik: Sångare från Filadelfiakyrkan\, Olaus Petri musikkår.Mötesledare: Kent Karlson från Olaus Petri församling\, Ellen Hemström från Filadelfiakyrkan samt Tommy Hagsten från Kristet Center. \n\n\n\nInsamling/kollekt till Örebro stadsmission. \n\n\n\nVarmt välkomna önskar Örebro kristna råd.
URL:https://www.sorbykyrkan.nu/programpunkt/ekumenisk-gudstjanst-i-stadsparken-2/
LOCATION:Stadsparken\, Floragatan 1B\, Örebro\, 702 13
ATTACH;FMTTYPE=image/jpeg:https://www.sorbykyrkan.nu/wp-content/uploads/Gemensam-gudstj-stadspark-f.avif
END:VEVENT
BEGIN:VEVENT
DTSTART;TZID=Europe/Stockholm:20250817T120000
DTEND;TZID=Europe/Stockholm:20250817T140000
DTSTAMP:20260421T175316
CREATED:20250607T143452Z
LAST-MODIFIED:20250607T143452Z
UID:10002477-1755432000-1755439200@www.sorbykyrkan.nu
SUMMARY:Sommarsport
DESCRIPTION:Ålder: För dig som ska börja årskurs 6 till hösten och äldre. OBS! Ingen övre åldersgräns!   \n\n\n\nTid: Varje söndag efter mässan\, ca kl. 12.00-14.00. Samling på kyrktorget i Sörbykyrkan ca 11.40 för att ordna samåkning alternativt lättare joggingpass till idrottsplatsen.  \n\n\n\nPlats: Utomhus \n\n\n\nVad: ”Play and pray” – Sport och andakt. Olika utomhussporter utan prestationskrav \n\n\n\nSportgruppens upplägg ”Play and pray” innebär*: \n\n\n\n\nKort uppvärmning och presentation av nya deltagare\n\n\n\nBollsport 1 ca 30 minuter\n\n\n\nKort andakt och vila 5-10 minuter\n\n\n\nBollsport 2 ca 30 minuter\n\n\n\nBön och vila 5-10 minuter\n\n\n\nBollsport 3 ca 30 minuter\n\n\n\nAvslutning\, dusch\, omklädning \n\n\n\n\n*Variationer kan förekomma \n\n\n\nMellan mässa och sport finns mackfika i kyrkan. \n\n\n\nOmbyte sker i kyrkan. \n\n\n\nKontakt: Jonas Damberg\, 070-240 68 65
URL:https://www.sorbykyrkan.nu/programpunkt/sommarsport-7/
LOCATION:Sörbykyrkan\, Senapsvägen 24\, Örebro\, 702 18\, Sverige
ATTACH;FMTTYPE=image/jpeg:https://www.sorbykyrkan.nu/wp-content/uploads/duffy-brook-IwDTKKFmWAc-unsplash-scaled.jpg
END:VEVENT
END:VCALENDAR