BEGIN:VCALENDAR
VERSION:2.0
PRODID:-//Sörbykyrkan - ECPv6.15.20//NONSGML v1.0//EN
CALSCALE:GREGORIAN
METHOD:PUBLISH
X-WR-CALNAME:Sörbykyrkan
X-ORIGINAL-URL:https://www.sorbykyrkan.nu
X-WR-CALDESC:Händelser för Sörbykyrkan
REFRESH-INTERVAL;VALUE=DURATION:PT1H
X-Robots-Tag:noindex
X-PUBLISHED-TTL:PT1H
BEGIN:VTIMEZONE
TZID:Europe/Stockholm
BEGIN:DAYLIGHT
TZOFFSETFROM:+0100
TZOFFSETTO:+0200
TZNAME:CEST
DTSTART:20250330T010000
END:DAYLIGHT
BEGIN:STANDARD
TZOFFSETFROM:+0200
TZOFFSETTO:+0100
TZNAME:CET
DTSTART:20251026T010000
END:STANDARD
BEGIN:DAYLIGHT
TZOFFSETFROM:+0100
TZOFFSETTO:+0200
TZNAME:CEST
DTSTART:20260329T010000
END:DAYLIGHT
BEGIN:STANDARD
TZOFFSETFROM:+0200
TZOFFSETTO:+0100
TZNAME:CET
DTSTART:20261025T010000
END:STANDARD
BEGIN:DAYLIGHT
TZOFFSETFROM:+0100
TZOFFSETTO:+0200
TZNAME:CEST
DTSTART:20270328T010000
END:DAYLIGHT
BEGIN:STANDARD
TZOFFSETFROM:+0200
TZOFFSETTO:+0100
TZNAME:CET
DTSTART:20271031T010000
END:STANDARD
END:VTIMEZONE
BEGIN:VEVENT
DTSTART;TZID=Europe/Stockholm:20260421T180000
DTEND;TZID=Europe/Stockholm:20260421T210000
DTSTAMP:20260421T144341
CREATED:20251027T161652Z
LAST-MODIFIED:20251027T161653Z
UID:10002857-1776794400-1776805200@www.sorbykyrkan.nu
SUMMARY:Föreningens styrelse sammanträder
DESCRIPTION:Ha gärna med styrelsen och deras arbetet i dina böner. Välkommen att höra av dej med tankar och frågor! Du finner kontaktuppgifter här.
URL:https://www.sorbykyrkan.nu/programpunkt/foreningens-styrelse-sammantrader/2026-04-21/
LOCATION:Sörbykyrkan\, Senapsvägen 24\, Örebro\, 702 18\, Sverige
ATTACH;FMTTYPE=image/jpeg:https://www.sorbykyrkan.nu/wp-content/uploads/dator_kalender_brev_graf_diagram_hand.avif
END:VEVENT
END:VCALENDAR